BEGIN:VCALENDAR
VERSION:2.0
PRODID:-//OSSAHS - ECPv6.15.20//NONSGML v1.0//EN
CALSCALE:GREGORIAN
METHOD:PUBLISH
X-ORIGINAL-URL:https://sshistoricalsociety.ca
X-WR-CALDESC:Events for OSSAHS
REFRESH-INTERVAL;VALUE=DURATION:PT1H
X-Robots-Tag:noindex
X-PUBLISHED-TTL:PT1H
BEGIN:VTIMEZONE
TZID:America/New_York
BEGIN:DAYLIGHT
TZOFFSETFROM:-0500
TZOFFSETTO:-0400
TZNAME:EDT
DTSTART:20210314T070000
END:DAYLIGHT
BEGIN:STANDARD
TZOFFSETFROM:-0400
TZOFFSETTO:-0500
TZNAME:EST
DTSTART:20211107T060000
END:STANDARD
BEGIN:DAYLIGHT
TZOFFSETFROM:-0500
TZOFFSETTO:-0400
TZNAME:EDT
DTSTART:20220313T070000
END:DAYLIGHT
BEGIN:STANDARD
TZOFFSETFROM:-0400
TZOFFSETTO:-0500
TZNAME:EST
DTSTART:20221106T060000
END:STANDARD
BEGIN:DAYLIGHT
TZOFFSETFROM:-0500
TZOFFSETTO:-0400
TZNAME:EDT
DTSTART:20230312T070000
END:DAYLIGHT
BEGIN:STANDARD
TZOFFSETFROM:-0400
TZOFFSETTO:-0500
TZNAME:EST
DTSTART:20231105T060000
END:STANDARD
END:VTIMEZONE
BEGIN:VEVENT
DTSTART;TZID=America/New_York:20220605T140000
DTEND;TZID=America/New_York:20220605T170000
DTSTAMP:20260421T035727
CREATED:20220210T173240Z
LAST-MODIFIED:20230502T173824Z
UID:4926-1654437600-1654448400@sshistoricalsociety.ca
SUMMARY:St. Mary's 175th celebration
DESCRIPTION:There will be a mass at 2:00 pm by the Bishop to celebrate 175 years of St. Mary’s parish.   The mass will be followed by a baseball game behind the church.  The church hall will be open with displays highlighting the history of the parish.
URL:https://sshistoricalsociety.ca/event/st-marys-175th-celebration/
END:VEVENT
END:VCALENDAR